BEGIN:VCALENDAR
VERSION:2.0
PRODID:-//Jenny Joseph - ECPv6.15.11//NONSGML v1.0//EN
CALSCALE:GREGORIAN
METHOD:PUBLISH
X-ORIGINAL-URL:https://jennyjoseph.ch
X-WR-CALDESC:Évènements pour Jenny Joseph
REFRESH-INTERVAL;VALUE=DURATION:PT1H
X-Robots-Tag:noindex
X-PUBLISHED-TTL:PT1H
BEGIN:VTIMEZONE
TZID:Europe/Zurich
BEGIN:DAYLIGHT
TZOFFSETFROM:+0100
TZOFFSETTO:+0200
TZNAME:CEST
DTSTART:20250330T010000
END:DAYLIGHT
BEGIN:STANDARD
TZOFFSETFROM:+0200
TZOFFSETTO:+0100
TZNAME:CET
DTSTART:20251026T010000
END:STANDARD
BEGIN:DAYLIGHT
TZOFFSETFROM:+0100
TZOFFSETTO:+0200
TZNAME:CEST
DTSTART:20260329T010000
END:DAYLIGHT
BEGIN:STANDARD
TZOFFSETFROM:+0200
TZOFFSETTO:+0100
TZNAME:CET
DTSTART:20261025T010000
END:STANDARD
BEGIN:DAYLIGHT
TZOFFSETFROM:+0100
TZOFFSETTO:+0200
TZNAME:CEST
DTSTART:20270328T010000
END:DAYLIGHT
BEGIN:STANDARD
TZOFFSETFROM:+0200
TZOFFSETTO:+0100
TZNAME:CET
DTSTART:20271031T010000
END:STANDARD
END:VTIMEZONE
BEGIN:VEVENT
DTSTART;TZID=Europe/Zurich:20261005T180000
DTEND;TZID=Europe/Zurich:20261005T193000
DTSTAMP:20260419T184628
CREATED:20251224T104119Z
LAST-MODIFIED:20251224T104119Z
UID:29866-1791223200-1791228600@jennyjoseph.ch
SUMMARY:Atelier découverte auto-hypnose pour les adultes
DESCRIPTION:Un atelier en groupe pour apprendre à connecter l’état d’hypnose et identifier ses bienfaits ; dans l’idée de développer au quotidien des temps de ressourcement bienvenus et rapides tout en adoptant plus régulièrement et dans de nombreuses situations\, cette posture de détente et d’être au monde\, différentes.
URL:https://jennyjoseph.ch/event/atelier-decouverte-auto-hypnose-pour-les-adultes-16/
LOCATION:Mon cabinet\, Rue de la Tournelle 44\, Orbe\, 1350
CATEGORIES:Atelier découverte,en groupe,pour les adultes
ATTACH;FMTTYPE=image/png:https://jennyjoseph.ch/wp-content/uploads/2024/01/Auto-hypnose_adultes.png
END:VEVENT
BEGIN:VEVENT
DTSTART;TZID=Europe/Zurich:20261007T153000
DTEND;TZID=Europe/Zurich:20261007T170000
DTSTAMP:20260419T184628
CREATED:20251224T121351Z
LAST-MODIFIED:20251224T121351Z
UID:29960-1791387000-1791392400@jennyjoseph.ch
SUMMARY:Atelier sur le harcèlement
DESCRIPTION:Un atelier en groupe pour les enfants et ado vivant du harcèlement scolaire. Cet atelier utilisera de l’art-thérapie\, des temps de partage ainsi que de l’hypnose pour aider votre enfant à ancrer une sécurité à l’intérieur de soi et de la confiance en soi.
URL:https://jennyjoseph.ch/event/atelier-sur-le-harcelement-10/
CATEGORIES:Atelier,en groupe,Pour les adolescents,Pour les enfants
ATTACH;FMTTYPE=image/jpeg:https://jennyjoseph.ch/wp-content/uploads/2024/01/Jenny_Joseph_harcelement.jpg
END:VEVENT
BEGIN:VEVENT
DTSTART;TZID=Europe/Zurich:20261028T133000
DTEND;TZID=Europe/Zurich:20261028T150000
DTSTAMP:20260419T184628
CREATED:20251224T113018Z
LAST-MODIFIED:20251224T113018Z
UID:29917-1793194200-1793199600@jennyjoseph.ch
SUMMARY:Atelier "émotions" pour les enfants
DESCRIPTION:Un atelier en groupe\, ayant pour objectif de permettre aux enfants d’apprivoiser le monde des émotions et de repartir avec des outils pour un meilleur bien être au quotidien.
URL:https://jennyjoseph.ch/event/atelier-emotions-pour-les-enfants-12/
LOCATION:Mon cabinet\, Rue de la Tournelle 44\, Orbe\, 1350
CATEGORIES:Atelier,en groupe,Pour les enfants
ATTACH;FMTTYPE=image/png:https://jennyjoseph.ch/wp-content/uploads/2024/01/Atelier_emotions_enfants.png
END:VEVENT
BEGIN:VEVENT
DTSTART;TZID=Europe/Zurich:20261028T160000
DTEND;TZID=Europe/Zurich:20261028T173000
DTSTAMP:20260419T184628
CREATED:20251224T120201Z
LAST-MODIFIED:20251224T120201Z
UID:29954-1793203200-1793208600@jennyjoseph.ch
SUMMARY:Atelier "Création" pour les ado
DESCRIPTION:Un atelier en groupe\, ayant pour objectif\, par la création\, de permettre aux ado d’apprendre à mieux se connaitre; sur la base des suggestions de l’art-thérapeute. \nNul besoin de savoir peindre ou dessiner. L’atelier d’art-thérapie n’est pas un cours artistique. \nL’art-thérapie permet de s’exprimer d’une autre manière que verbalement. Ce qui peut être très aidant pour les adolescents.
URL:https://jennyjoseph.ch/event/atelier-creation-pour-les-ado-7/
LOCATION:Mon cabinet\, Rue de la Tournelle 44\, Orbe\, 1350
CATEGORIES:Atelier,en groupe,Pour les adolescents
ATTACH;FMTTYPE=image/jpeg:https://jennyjoseph.ch/wp-content/uploads/2025/12/8pldxhgor9k.jpg
END:VEVENT
END:VCALENDAR