BEGIN:VCALENDAR
VERSION:2.0
PRODID:-//Jenny Joseph - ECPv6.15.11//NONSGML v1.0//EN
CALSCALE:GREGORIAN
METHOD:PUBLISH
X-ORIGINAL-URL:https://jennyjoseph.ch
X-WR-CALDESC:Évènements pour Jenny Joseph
REFRESH-INTERVAL;VALUE=DURATION:PT1H
X-Robots-Tag:noindex
X-PUBLISHED-TTL:PT1H
BEGIN:VTIMEZONE
TZID:Europe/Zurich
BEGIN:DAYLIGHT
TZOFFSETFROM:+0100
TZOFFSETTO:+0200
TZNAME:CEST
DTSTART:20230326T010000
END:DAYLIGHT
BEGIN:STANDARD
TZOFFSETFROM:+0200
TZOFFSETTO:+0100
TZNAME:CET
DTSTART:20231029T010000
END:STANDARD
BEGIN:DAYLIGHT
TZOFFSETFROM:+0100
TZOFFSETTO:+0200
TZNAME:CEST
DTSTART:20240331T010000
END:DAYLIGHT
BEGIN:STANDARD
TZOFFSETFROM:+0200
TZOFFSETTO:+0100
TZNAME:CET
DTSTART:20241027T010000
END:STANDARD
BEGIN:DAYLIGHT
TZOFFSETFROM:+0100
TZOFFSETTO:+0200
TZNAME:CEST
DTSTART:20250330T010000
END:DAYLIGHT
BEGIN:STANDARD
TZOFFSETFROM:+0200
TZOFFSETTO:+0100
TZNAME:CET
DTSTART:20251026T010000
END:STANDARD
END:VTIMEZONE
BEGIN:VEVENT
DTSTART;TZID=Europe/Zurich:20240506T180000
DTEND;TZID=Europe/Zurich:20240506T193000
DTSTAMP:20260424T093020
CREATED:20240118T112727Z
LAST-MODIFIED:20240213T180624Z
UID:29604-1715018400-1715023800@jennyjoseph.ch
SUMMARY:Atelier découverte auto-hypnose pour les adultes
DESCRIPTION:Un atelier en groupe pour apprendre à connecter l’état d’hypnose et identifier ses bienfaits ; dans l’idée de développer au quotidien des temps de ressourcement bienvenus et rapides tout en adoptant plus régulièrement et dans de nombreuses situations\, cette posture de détente et d’être au monde\, différentes.
URL:https://jennyjoseph.ch/event/atelier-decouverte-auto-hypnose-pour-les-adultes-2/
LOCATION:Mon cabinet\, Rue de la Tournelle 44\, Orbe\, 1350
CATEGORIES:Atelier découverte,en groupe,pour les adultes
ATTACH;FMTTYPE=image/png:https://jennyjoseph.ch/wp-content/uploads/2024/01/Auto-hypnose_adultes.png
END:VEVENT
BEGIN:VEVENT
DTSTART;TZID=Europe/Zurich:20240518T090000
DTEND;TZID=Europe/Zurich:20240823T193000
DTSTAMP:20260424T093020
CREATED:20240416T122223Z
LAST-MODIFIED:20240416T125759Z
UID:29649-1716022800-1724441400@jennyjoseph.ch
SUMMARY:Atelier : Se libérer de l'emprise
DESCRIPTION:Un atelier en groupe pour se libérer de l’emprise. Durant ces 4 séances\, il sera proposé un processus qui utilisera l’art-thérapie et l’hypnose ericksonienne pour prendre conscience de comment ce phénomène s’est infiltré en soi\, réfléchir aux conditionnements et croyances qui ont amené à cette situation d’emprisonnement\, réécrire ses valeurs afin de progressivement démêler les éléments enchevêtrés\, se détacher du passé et se tourner vers le neuf. \nLe processus se déroule en 4 séances. La participation est nécessaire à chaque séance. \n1ère session : \nSamedi 18 mai 2024 de 9h00 à 12h00 \nSamedi 25 mai 2024 de 9h00 à 12h00 \nJeudi 20 juin 2024 de 18h00 à 19h30 \nJeudi 22 août 2024 de 18h00 à 19h30 \nDeuxième session à partir du 12 octobre 2024.
URL:https://jennyjoseph.ch/event/atelier-se-liberer-de-lemprise/
LOCATION:Mon cabinet\, Rue de la Tournelle 44\, Orbe\, 1350
CATEGORIES:en groupe,pour les adultes
ATTACH;FMTTYPE=image/jpeg:https://jennyjoseph.ch/wp-content/uploads/2024/04/l9zch-lielk-1-e1713272213770.jpg
END:VEVENT
END:VCALENDAR