BEGIN:VCALENDAR
VERSION:2.0
PRODID:-//Jenny Joseph - ECPv6.15.11//NONSGML v1.0//EN
CALSCALE:GREGORIAN
METHOD:PUBLISH
X-WR-CALNAME:Jenny Joseph
X-ORIGINAL-URL:https://jennyjoseph.ch
X-WR-CALDESC:Évènements pour Jenny Joseph
REFRESH-INTERVAL;VALUE=DURATION:PT1H
X-Robots-Tag:noindex
X-PUBLISHED-TTL:PT1H
BEGIN:VTIMEZONE
TZID:Europe/Zurich
BEGIN:DAYLIGHT
TZOFFSETFROM:+0100
TZOFFSETTO:+0200
TZNAME:CEST
DTSTART:20230326T010000
END:DAYLIGHT
BEGIN:STANDARD
TZOFFSETFROM:+0200
TZOFFSETTO:+0100
TZNAME:CET
DTSTART:20231029T010000
END:STANDARD
BEGIN:DAYLIGHT
TZOFFSETFROM:+0100
TZOFFSETTO:+0200
TZNAME:CEST
DTSTART:20240331T010000
END:DAYLIGHT
BEGIN:STANDARD
TZOFFSETFROM:+0200
TZOFFSETTO:+0100
TZNAME:CET
DTSTART:20241027T010000
END:STANDARD
BEGIN:DAYLIGHT
TZOFFSETFROM:+0100
TZOFFSETTO:+0200
TZNAME:CEST
DTSTART:20250330T010000
END:DAYLIGHT
BEGIN:STANDARD
TZOFFSETFROM:+0200
TZOFFSETTO:+0100
TZNAME:CET
DTSTART:20251026T010000
END:STANDARD
END:VTIMEZONE
BEGIN:VEVENT
DTSTART;TZID=Europe/Zurich:20241005T090000
DTEND;TZID=Europe/Zurich:20241005T120000
DTSTAMP:20260423T235234
CREATED:20240117T180312Z
LAST-MODIFIED:20240501T140326Z
UID:29577-1728118800-1728129600@jennyjoseph.ch
SUMMARY:Atelier découverte art-thérapie pour les adultes
DESCRIPTION:Un atelier en groupe conçu pour les adultes qui ont besoin de développer ou retrouver leur créativité afin de gagner en souplesse et en confiance dans leur capacité à rebondir dans la vie.
URL:https://jennyjoseph.ch/event/atelier-decouverte-art-therapie-pour-les-adultes-4/
LOCATION:Mon cabinet\, Rue de la Tournelle 44\, Orbe\, 1350
CATEGORIES:Atelier découverte,en groupe,pour les adultes
ATTACH;FMTTYPE=image/png:https://jennyjoseph.ch/wp-content/uploads/2024/01/Art_therapie_adultes.png
END:VEVENT
BEGIN:VEVENT
DTSTART;TZID=Europe/Zurich:20241007T180000
DTEND;TZID=Europe/Zurich:20241007T193000
DTSTAMP:20260423T235234
CREATED:20240118T113003Z
LAST-MODIFIED:20240213T175937Z
UID:29608-1728324000-1728329400@jennyjoseph.ch
SUMMARY:Atelier découverte auto-hypnose pour les adultes
DESCRIPTION:Un atelier en groupe pour apprendre à connecter l’état d’hypnose et identifier ses bienfaits ; dans l’idée de développer au quotidien des temps de ressourcement bienvenus et rapides tout en adoptant plus régulièrement et dans de nombreuses situations\, cette posture de détente et d’être au monde\, différentes.
URL:https://jennyjoseph.ch/event/atelier-decouverte-auto-hypnose-pour-les-adultes-4/
LOCATION:Mon cabinet\, Rue de la Tournelle 44\, Orbe\, 1350
CATEGORIES:Atelier découverte,en groupe,pour les adultes
ATTACH;FMTTYPE=image/png:https://jennyjoseph.ch/wp-content/uploads/2024/01/Auto-hypnose_adultes.png
END:VEVENT
BEGIN:VEVENT
DTSTART;TZID=Europe/Zurich:20241009T190000
DTEND;TZID=Europe/Zurich:20241009T203000
DTSTAMP:20260423T235234
CREATED:20240823T124609Z
LAST-MODIFIED:20240823T152144Z
UID:29665-1728500400-1728505800@jennyjoseph.ch
SUMMARY:Atelier Cercles d'éveil "Enso"
DESCRIPTION:Un atelier en groupe\, ayant pour objectif de permettre aux personnes de venir découvrir l’Enso. Apprendre à tracer un cercle à l’encre de chine\, en essayant d’écouter le plus possible\, le geste de la main. Un chemin vers le calme\, le lâcher prise et la connaissance de soi.
URL:https://jennyjoseph.ch/event/atelier-cercles-deveil-enso-duplicate/
LOCATION:Mon cabinet\, Rue de la Tournelle 44\, Orbe\, 1350
CATEGORIES:Atelier,en groupe,pour les adultes
ATTACH;FMTTYPE=image/jpeg:https://jennyjoseph.ch/wp-content/uploads/2024/08/at1cllkve7c.jpg
END:VEVENT
BEGIN:VEVENT
DTSTART;TZID=Europe/Zurich:20241012T090000
DTEND;TZID=Europe/Zurich:20241129T193000
DTSTAMP:20260423T235234
CREATED:20240416T123120Z
LAST-MODIFIED:20240501T140351Z
UID:29656-1728723600-1732908600@jennyjoseph.ch
SUMMARY:Atelier : Se libérer de l'emprise
DESCRIPTION:Un atelier en groupe pour se libérer de l’emprise. Durant ces 4 séances\, il sera proposé un processus qui utilisera l’art-thérapie et l’hypnose ericksonienne pour prendre conscience de comment ce phénomène s’est infiltré en soi\, réfléchir aux conditionnements et croyances qui ont amené à cette situation d’emprisonnement\, réécrire ses valeurs afin de progressivement démêler les éléments enchevêtrés\, se détacher du passé et se tourner vers le neuf. \nLe processus se déroule en 4 séances. La participation est nécessaire à chaque séance. \n1ère session : \nSamedi 12 octobre 2024 de 9h00 à 12h00 \nSamedi 19 octobre 2024 de 9h00 à 12h00 \nJeudi 14 novembre 2024 de 18h00 à 19h30 \nJeudi 29 novembre 2024 de 18h00 à 19h30 \n 
URL:https://jennyjoseph.ch/event/atelier-se-liberer-de-lemprise-duplicate/
LOCATION:Mon cabinet\, Rue de la Tournelle 44\, Orbe\, 1350
CATEGORIES:en groupe,pour les adultes
ATTACH;FMTTYPE=image/jpeg:https://jennyjoseph.ch/wp-content/uploads/2024/04/l9zch-lielk-1-e1713272213770.jpg
END:VEVENT
BEGIN:VEVENT
DTSTART;TZID=Europe/Zurich:20241015T190000
DTEND;TZID=Europe/Zurich:20241015T210000
DTSTAMP:20260423T235234
CREATED:20240923T105321Z
LAST-MODIFIED:20240923T105321Z
UID:29680-1729018800-1729026000@jennyjoseph.ch
SUMMARY:Atelier Masques pour les adultes
DESCRIPTION:Un atelier en groupe conçu où chacun(e) sera amené(e) à travailler son rapport à l’intérieur et à l’extérieur\, face à ce qui est caché et montré. Un atelier permettant de mettre en relief ce qui est voué à évoluer pour se sentir plus ajusté avec soi et avec les autres.
URL:https://jennyjoseph.ch/event/atelier-masques-pour-les-adultes/
LOCATION:Mon cabinet\, Rue de la Tournelle 44\, Orbe\, 1350
CATEGORIES:Atelier,en groupe,pour les adultes
ATTACH;FMTTYPE=image/jpeg:https://jennyjoseph.ch/wp-content/uploads/2024/09/cmucytrbdgg.jpg
END:VEVENT
END:VCALENDAR