BEGIN:VCALENDAR
VERSION:2.0
PRODID:-//Jenny Joseph - ECPv6.15.11//NONSGML v1.0//EN
CALSCALE:GREGORIAN
METHOD:PUBLISH
X-ORIGINAL-URL:https://jennyjoseph.ch
X-WR-CALDESC:Évènements pour Jenny Joseph
REFRESH-INTERVAL;VALUE=DURATION:PT1H
X-Robots-Tag:noindex
X-PUBLISHED-TTL:PT1H
BEGIN:VTIMEZONE
TZID:Europe/Zurich
BEGIN:DAYLIGHT
TZOFFSETFROM:+0100
TZOFFSETTO:+0200
TZNAME:CEST
DTSTART:20230326T010000
END:DAYLIGHT
BEGIN:STANDARD
TZOFFSETFROM:+0200
TZOFFSETTO:+0100
TZNAME:CET
DTSTART:20231029T010000
END:STANDARD
BEGIN:DAYLIGHT
TZOFFSETFROM:+0100
TZOFFSETTO:+0200
TZNAME:CEST
DTSTART:20240331T010000
END:DAYLIGHT
BEGIN:STANDARD
TZOFFSETFROM:+0200
TZOFFSETTO:+0100
TZNAME:CET
DTSTART:20241027T010000
END:STANDARD
BEGIN:DAYLIGHT
TZOFFSETFROM:+0100
TZOFFSETTO:+0200
TZNAME:CEST
DTSTART:20250330T010000
END:DAYLIGHT
BEGIN:STANDARD
TZOFFSETFROM:+0200
TZOFFSETTO:+0100
TZNAME:CET
DTSTART:20251026T010000
END:STANDARD
END:VTIMEZONE
BEGIN:VEVENT
DTSTART;TZID=Europe/Zurich:20241012T090000
DTEND;TZID=Europe/Zurich:20241129T193000
DTSTAMP:20260423T222602
CREATED:20240416T123120Z
LAST-MODIFIED:20240501T140351Z
UID:29656-1728723600-1732908600@jennyjoseph.ch
SUMMARY:Atelier : Se libérer de l'emprise
DESCRIPTION:Un atelier en groupe pour se libérer de l’emprise. Durant ces 4 séances\, il sera proposé un processus qui utilisera l’art-thérapie et l’hypnose ericksonienne pour prendre conscience de comment ce phénomène s’est infiltré en soi\, réfléchir aux conditionnements et croyances qui ont amené à cette situation d’emprisonnement\, réécrire ses valeurs afin de progressivement démêler les éléments enchevêtrés\, se détacher du passé et se tourner vers le neuf. \nLe processus se déroule en 4 séances. La participation est nécessaire à chaque séance. \n1ère session : \nSamedi 12 octobre 2024 de 9h00 à 12h00 \nSamedi 19 octobre 2024 de 9h00 à 12h00 \nJeudi 14 novembre 2024 de 18h00 à 19h30 \nJeudi 29 novembre 2024 de 18h00 à 19h30 \n 
URL:https://jennyjoseph.ch/event/atelier-se-liberer-de-lemprise-duplicate/
LOCATION:Mon cabinet\, Rue de la Tournelle 44\, Orbe\, 1350
CATEGORIES:en groupe,pour les adultes
ATTACH;FMTTYPE=image/jpeg:https://jennyjoseph.ch/wp-content/uploads/2024/04/l9zch-lielk-1-e1713272213770.jpg
END:VEVENT
BEGIN:VEVENT
DTSTART;TZID=Europe/Zurich:20241118T180000
DTEND;TZID=Europe/Zurich:20241118T193000
DTSTAMP:20260423T222602
CREATED:20240823T125315Z
LAST-MODIFIED:20240823T125315Z
UID:29668-1731952800-1731958200@jennyjoseph.ch
SUMMARY:Atelier découverte auto-hypnose pour les adultes
DESCRIPTION:Un atelier en groupe pour apprendre à connecter l’état d’hypnose et identifier ses bienfaits ; dans l’idée de développer au quotidien des temps de ressourcement bienvenus et rapides tout en adoptant plus régulièrement et dans de nombreuses situations\, cette posture de détente et d’être au monde\, différentes.
URL:https://jennyjoseph.ch/event/atelier-decouverte-auto-hypnose-pour-les-adultes/
LOCATION:Mon cabinet\, Rue de la Tournelle 44\, Orbe\, 1350
CATEGORIES:Atelier découverte,en groupe,pour les adultes
ATTACH;FMTTYPE=image/png:https://jennyjoseph.ch/wp-content/uploads/2024/01/Auto-hypnose_adultes.png
END:VEVENT
END:VCALENDAR