BEGIN:VCALENDAR
VERSION:2.0
PRODID:-//Jenny Joseph - ECPv6.15.11//NONSGML v1.0//EN
CALSCALE:GREGORIAN
METHOD:PUBLISH
X-WR-CALNAME:Jenny Joseph
X-ORIGINAL-URL:https://jennyjoseph.ch
X-WR-CALDESC:Évènements pour Jenny Joseph
REFRESH-INTERVAL;VALUE=DURATION:PT1H
X-Robots-Tag:noindex
X-PUBLISHED-TTL:PT1H
BEGIN:VTIMEZONE
TZID:Europe/Zurich
BEGIN:DAYLIGHT
TZOFFSETFROM:+0100
TZOFFSETTO:+0200
TZNAME:CEST
DTSTART:20240331T010000
END:DAYLIGHT
BEGIN:STANDARD
TZOFFSETFROM:+0200
TZOFFSETTO:+0100
TZNAME:CET
DTSTART:20241027T010000
END:STANDARD
BEGIN:DAYLIGHT
TZOFFSETFROM:+0100
TZOFFSETTO:+0200
TZNAME:CEST
DTSTART:20250330T010000
END:DAYLIGHT
BEGIN:STANDARD
TZOFFSETFROM:+0200
TZOFFSETTO:+0100
TZNAME:CET
DTSTART:20251026T010000
END:STANDARD
BEGIN:DAYLIGHT
TZOFFSETFROM:+0100
TZOFFSETTO:+0200
TZNAME:CEST
DTSTART:20260329T010000
END:DAYLIGHT
BEGIN:STANDARD
TZOFFSETFROM:+0200
TZOFFSETTO:+0100
TZNAME:CET
DTSTART:20261025T010000
END:STANDARD
END:VTIMEZONE
BEGIN:VEVENT
DTSTART;TZID=Europe/Zurich:20250303T180000
DTEND;TZID=Europe/Zurich:20250303T193000
DTSTAMP:20260423T135858
CREATED:20241029T134818Z
LAST-MODIFIED:20241029T134818Z
UID:29762-1741024800-1741030200@jennyjoseph.ch
SUMMARY:Atelier découverte auto-hypnose pour les adultes
DESCRIPTION:Un atelier en groupe pour apprendre à connecter l’état d’hypnose et identifier ses bienfaits ; dans l’idée de développer au quotidien des temps de ressourcement bienvenus et rapides tout en adoptant plus régulièrement et dans de nombreuses situations\, cette posture de détente et d’être au monde\, différentes.
URL:https://jennyjoseph.ch/event/atelier-decouverte-auto-hypnose-pour-les-adultes-6/
LOCATION:Mon cabinet\, Rue de la Tournelle 44\, Orbe\, 1350
CATEGORIES:Atelier découverte,en groupe,pour les adultes
ATTACH;FMTTYPE=image/png:https://jennyjoseph.ch/wp-content/uploads/2024/01/Auto-hypnose_adultes.png
END:VEVENT
BEGIN:VEVENT
DTSTART;TZID=Europe/Zurich:20250315T090000
DTEND;TZID=Europe/Zurich:20250315T120000
DTSTAMP:20260423T135858
CREATED:20241115T185841Z
LAST-MODIFIED:20241115T185841Z
UID:29829-1742029200-1742040000@jennyjoseph.ch
SUMMARY:Atelier art-thérapie parents-ados
DESCRIPTION:Un atelier en groupe pour parents et ado qui souhaitent ou ont besoin de prendre soin de leur relation et de leurs liens. Il sera proposé aux différents binômes des expériences créatives qui permettront à chacun(e) de sentir et de mettre des mots sur ce qui se vit et trouver les ressources nécessaires à un nouvel équilibre\, une meilleure compréhension et par conséquent\, une meilleure capacité de communication.
URL:https://jennyjoseph.ch/event/atelier-art-therapie-parents-ados-6/
LOCATION:Mon cabinet\, Rue de la Tournelle 44\, Orbe\, 1350
CATEGORIES:Atelier,en groupe,Pour les adolescents,pour les adultes
ATTACH;FMTTYPE=image/png:https://jennyjoseph.ch/wp-content/uploads/2024/01/Art_therapie_Ados.png
END:VEVENT
BEGIN:VEVENT
DTSTART;TZID=Europe/Zurich:20250316T140000
DTEND;TZID=Europe/Zurich:20250316T160000
DTSTAMP:20260423T135858
CREATED:20241115T184842Z
LAST-MODIFIED:20241117T172741Z
UID:29824-1742133600-1742140800@jennyjoseph.ch
SUMMARY:Atelier Masques pour les adultes
DESCRIPTION:Un atelier en groupe conçu où chacun(e) sera amené(e) à travailler son rapport à l’intérieur et à l’extérieur\, face à ce qui est caché et montré. Un atelier permettant de mettre en relief ce qui est voué à évoluer pour se sentir plus ajusté avec soi et avec les autres.
URL:https://jennyjoseph.ch/event/atelier-masques-pour-les-adultes-2/
LOCATION:Mon cabinet\, Rue de la Tournelle 44\, Orbe\, 1350
CATEGORIES:Atelier,en groupe,pour les adultes
ATTACH;FMTTYPE=image/jpeg:https://jennyjoseph.ch/wp-content/uploads/2024/09/cmucytrbdgg.jpg
END:VEVENT
END:VCALENDAR