BEGIN:VCALENDAR
VERSION:2.0
PRODID:-//Jenny Joseph - ECPv6.15.11//NONSGML v1.0//EN
CALSCALE:GREGORIAN
METHOD:PUBLISH
X-WR-CALNAME:Jenny Joseph
X-ORIGINAL-URL:https://jennyjoseph.ch
X-WR-CALDESC:Évènements pour Jenny Joseph
REFRESH-INTERVAL;VALUE=DURATION:PT1H
X-Robots-Tag:noindex
X-PUBLISHED-TTL:PT1H
BEGIN:VTIMEZONE
TZID:Europe/Zurich
BEGIN:DAYLIGHT
TZOFFSETFROM:+0100
TZOFFSETTO:+0200
TZNAME:CEST
DTSTART:20240331T010000
END:DAYLIGHT
BEGIN:STANDARD
TZOFFSETFROM:+0200
TZOFFSETTO:+0100
TZNAME:CET
DTSTART:20241027T010000
END:STANDARD
BEGIN:DAYLIGHT
TZOFFSETFROM:+0100
TZOFFSETTO:+0200
TZNAME:CEST
DTSTART:20250330T010000
END:DAYLIGHT
BEGIN:STANDARD
TZOFFSETFROM:+0200
TZOFFSETTO:+0100
TZNAME:CET
DTSTART:20251026T010000
END:STANDARD
BEGIN:DAYLIGHT
TZOFFSETFROM:+0100
TZOFFSETTO:+0200
TZNAME:CEST
DTSTART:20260329T010000
END:DAYLIGHT
BEGIN:STANDARD
TZOFFSETFROM:+0200
TZOFFSETTO:+0100
TZNAME:CET
DTSTART:20261025T010000
END:STANDARD
END:VTIMEZONE
BEGIN:VEVENT
DTSTART;TZID=Europe/Zurich:20251001T140000
DTEND;TZID=Europe/Zurich:20251001T153000
DTSTAMP:20260424T123830
CREATED:20241115T165745Z
LAST-MODIFIED:20241115T170030Z
UID:29797-1759327200-1759332600@jennyjoseph.ch
SUMMARY:Atelier Art-thérapie "Crée ta place" pour les enfants
DESCRIPTION:Un atelier en petit groupe pour trouver sa place dans la création d’une oeuvre commune\, en respect à soi-même et aux autres. \nAucun besoin de savoir peindre ou dessiner. Il suffit juste d’avoir envie de venir jouer ensemble avec différentes matières et couleurs.
URL:https://jennyjoseph.ch/event/atelier-art-therapie-cree-ta-place-pour-les-enfants-2/
LOCATION:Mon cabinet\, Rue de la Tournelle 44\, Orbe\, 1350
CATEGORIES:Atelier découverte,Pour les enfants
ATTACH;FMTTYPE=image/jpeg:https://jennyjoseph.ch/wp-content/uploads/2024/11/g7dum6lrvtq.jpg
END:VEVENT
BEGIN:VEVENT
DTSTART;TZID=Europe/Zurich:20251014T100000
DTEND;TZID=Europe/Zurich:20251014T120000
DTSTAMP:20260424T123830
CREATED:20241115T170913Z
LAST-MODIFIED:20241117T172425Z
UID:29807-1760436000-1760443200@jennyjoseph.ch
SUMMARY:Atelier Art-thérapie "Créer ta bulle de sécurité" pour les enfants
DESCRIPTION:Un atelier en groupe pour permettre à chaque enfant de découvrir son espace ressource et de le créer. \n 
URL:https://jennyjoseph.ch/event/atelier-art-therapie-creer-ta-bulle-de-securite-pour-les-enfants-duplicate/
LOCATION:Mon cabinet\, Rue de la Tournelle 44\, Orbe\, 1350
CATEGORIES:Pour les enfants
ATTACH;FMTTYPE=image/png:https://jennyjoseph.ch/wp-content/uploads/2024/01/Jenny_Joseph_art_therapie_enfants.png
END:VEVENT
BEGIN:VEVENT
DTSTART;TZID=Europe/Zurich:20251015T100000
DTEND;TZID=Europe/Zurich:20251015T120000
DTSTAMP:20260424T123830
CREATED:20241120T090207Z
LAST-MODIFIED:20241120T090207Z
UID:29835-1760522400-1760529600@jennyjoseph.ch
SUMMARY:Atelier Art-thérapie "Créer ta cabane" pour les enfants
DESCRIPTION:Un atelier en groupe où chaque enfant aura l’occasion de se créer sa cabane. La cabane : qu’est-ce que cela vous évoque\, vous ? \n 
URL:https://jennyjoseph.ch/event/atelier-art-therapie-creer-ta-cabane-pour-les-enfants-3/
LOCATION:Mon cabinet\, Rue de la Tournelle 44\, Orbe\, 1350
CATEGORIES:Pour les enfants
ATTACH;FMTTYPE=image/jpeg:https://jennyjoseph.ch/wp-content/uploads/2024/11/47wkhmejcy0.jpg
END:VEVENT
END:VCALENDAR