BEGIN:VCALENDAR
VERSION:2.0
PRODID:-//Jenny Joseph - ECPv6.15.11//NONSGML v1.0//EN
CALSCALE:GREGORIAN
METHOD:PUBLISH
X-ORIGINAL-URL:https://jennyjoseph.ch
X-WR-CALDESC:Évènements pour Jenny Joseph
REFRESH-INTERVAL;VALUE=DURATION:PT1H
X-Robots-Tag:noindex
X-PUBLISHED-TTL:PT1H
BEGIN:VTIMEZONE
TZID:Europe/Zurich
BEGIN:DAYLIGHT
TZOFFSETFROM:+0100
TZOFFSETTO:+0200
TZNAME:CEST
DTSTART:20230326T010000
END:DAYLIGHT
BEGIN:STANDARD
TZOFFSETFROM:+0200
TZOFFSETTO:+0100
TZNAME:CET
DTSTART:20231029T010000
END:STANDARD
BEGIN:DAYLIGHT
TZOFFSETFROM:+0100
TZOFFSETTO:+0200
TZNAME:CEST
DTSTART:20240331T010000
END:DAYLIGHT
BEGIN:STANDARD
TZOFFSETFROM:+0200
TZOFFSETTO:+0100
TZNAME:CET
DTSTART:20241027T010000
END:STANDARD
BEGIN:DAYLIGHT
TZOFFSETFROM:+0100
TZOFFSETTO:+0200
TZNAME:CEST
DTSTART:20250330T010000
END:DAYLIGHT
BEGIN:STANDARD
TZOFFSETFROM:+0200
TZOFFSETTO:+0100
TZNAME:CET
DTSTART:20251026T010000
END:STANDARD
END:VTIMEZONE
BEGIN:VEVENT
DTSTART;TZID=Europe/Zurich:20241113T140000
DTEND;TZID=Europe/Zurich:20241113T153000
DTSTAMP:20260425T154759
CREATED:20240104T173027Z
LAST-MODIFIED:20240213T175905Z
UID:29259-1731506400-1731511800@jennyjoseph.ch
SUMMARY:Atelier découverte art-thérapie pour les enfants
DESCRIPTION:Un atelier en groupe de 1h30 pour permettre à votre enfant de découvrir l’art-thérapie. Le thème sera adapté selon les besoins des enfants inscrits.
URL:https://jennyjoseph.ch/event/atelier-decouverte-art-therapie-pour-les-enfants-2/
LOCATION:Mon cabinet\, Rue de la Tournelle 44\, Orbe\, 1350
CATEGORIES:Pour les enfants
ATTACH;FMTTYPE=image/png:https://jennyjoseph.ch/wp-content/uploads/2024/01/Jenny_Joseph_art_therapie_enfants.png
END:VEVENT
END:VCALENDAR