BEGIN:VCALENDAR
VERSION:2.0
PRODID:-//Jenny Joseph - ECPv6.15.11//NONSGML v1.0//EN
CALSCALE:GREGORIAN
METHOD:PUBLISH
X-WR-CALNAME:Jenny Joseph
X-ORIGINAL-URL:https://jennyjoseph.ch
X-WR-CALDESC:Évènements pour Jenny Joseph
REFRESH-INTERVAL;VALUE=DURATION:PT1H
X-Robots-Tag:noindex
X-PUBLISHED-TTL:PT1H
BEGIN:VTIMEZONE
TZID:Europe/Zurich
BEGIN:DAYLIGHT
TZOFFSETFROM:+0100
TZOFFSETTO:+0200
TZNAME:CEST
DTSTART:20240331T010000
END:DAYLIGHT
BEGIN:STANDARD
TZOFFSETFROM:+0200
TZOFFSETTO:+0100
TZNAME:CET
DTSTART:20241027T010000
END:STANDARD
BEGIN:DAYLIGHT
TZOFFSETFROM:+0100
TZOFFSETTO:+0200
TZNAME:CEST
DTSTART:20250330T010000
END:DAYLIGHT
BEGIN:STANDARD
TZOFFSETFROM:+0200
TZOFFSETTO:+0100
TZNAME:CET
DTSTART:20251026T010000
END:STANDARD
BEGIN:DAYLIGHT
TZOFFSETFROM:+0100
TZOFFSETTO:+0200
TZNAME:CEST
DTSTART:20260329T010000
END:DAYLIGHT
BEGIN:STANDARD
TZOFFSETFROM:+0200
TZOFFSETTO:+0100
TZNAME:CET
DTSTART:20261025T010000
END:STANDARD
END:VTIMEZONE
BEGIN:VEVENT
DTSTART;TZID=Europe/Zurich:20251015T100000
DTEND;TZID=Europe/Zurich:20251015T120000
DTSTAMP:20260424T133600
CREATED:20241120T090207Z
LAST-MODIFIED:20241120T090207Z
UID:29835-1760522400-1760529600@jennyjoseph.ch
SUMMARY:Atelier Art-thérapie "Créer ta cabane" pour les enfants
DESCRIPTION:Un atelier en groupe où chaque enfant aura l’occasion de se créer sa cabane. La cabane : qu’est-ce que cela vous évoque\, vous ? \n 
URL:https://jennyjoseph.ch/event/atelier-art-therapie-creer-ta-cabane-pour-les-enfants-3/
LOCATION:Mon cabinet\, Rue de la Tournelle 44\, Orbe\, 1350
CATEGORIES:Pour les enfants
ATTACH;FMTTYPE=image/jpeg:https://jennyjoseph.ch/wp-content/uploads/2024/11/47wkhmejcy0.jpg
END:VEVENT
END:VCALENDAR